Workbook

Sheet Samenvatting
A1: Samenvatting
A3: Algemeen
B4: De berekeningsdatum is vastgezet op: | D4: =Basisgegevens!C15 -> 43466 | F4: Tijdvak: | G4: =Basisgegevens!C21 -> 2019 - 2e halfjaar
A6: Personen
A8: Wie? | B8: Partijen | C8: Geboren op
A9: AP: | B9: =Basisgegevens!C4 -> AP | C9: =Basisgegevens!C5 -> 0
A10: AG: | B10: =Basisgegevens!D4 -> AG | C10: =Basisgegevens!D5 -> 0
A12: Nr. | B12: Kinderen | C12: Geboren op | D12: Ingeschreven bij:
A13: 1 | B13: =IF(TRIM(Basisgegevens!B201)="","--",Basisgegevens!B201) -> -- | C13: =IF(B13="--","--",Basisgegevens!E201) -> -- | D13: =IF(B13="--","--",IF(Basisgegevens!C201=1,$B$9,IF(Basisgegevens!D201=1,$B$10,"--"))) -> --
A14: 2 | B14: =IF(TRIM(Basisgegevens!B202)="","--",Basisgegevens!B202) -> -- | C14: =IF(B14="--","--",Basisgegevens!E202) -> -- | D14: =IF(B14="--","--",IF(Basisgegevens!C202=1,$B$9,IF(Basisgegevens!D202=1,$B$10,"--"))) -> --
A15: 3 | B15: =IF(TRIM(Basisgegevens!B203)="","--",Basisgegevens!B203) -> -- | C15: =IF(B15="--","--",Basisgegevens!E203) -> -- | D15: =IF(B15="--","--",IF(Basisgegevens!C203=1,$B$9,IF(Basisgegevens!D203=1,$B$10,"--"))) -> --
A16: 4 | B16: =IF(TRIM(Basisgegevens!B204)="","--",Basisgegevens!B204) -> -- | C16: =IF(B16="--","--",Basisgegevens!E204) -> -- | D16: =IF(B16="--","--",IF(Basisgegevens!C204=1,$B$9,IF(Basisgegevens!D204=1,$B$10,"--"))) -> --
A17: 5 | B17: =IF(TRIM(Basisgegevens!B205)="","--",Basisgegevens!B205) -> -- | C17: =IF(B17="--","--",Basisgegevens!E205) -> -- | D17: =IF(B17="--","--",IF(Basisgegevens!C205=1,$B$9,IF(Basisgegevens!D205=1,$B$10,"--"))) -> --
A18: 6 | B18: =IF(TRIM(Basisgegevens!B206)="","--",Basisgegevens!B206) -> -- | C18: =IF(B18="--","--",Basisgegevens!E206) -> -- | D18: =IF(B18="--","--",IF(Basisgegevens!C206=1,$B$9,IF(Basisgegevens!D206=1,$B$10,"--"))) -> --
A19: 7 | B19: =IF(TRIM(Basisgegevens!B207)="","--",Basisgegevens!B207) -> -- | C19: =IF(B19="--","--",Basisgegevens!E207) -> -- | D19: =IF(B19="--","--",IF(Basisgegevens!C207=1,$B$9,IF(Basisgegevens!D207=1,$B$10,"--"))) -> --
A20: 8 | B20: =IF(TRIM(Basisgegevens!B208)="","--",Basisgegevens!B208) -> -- | C20: =IF(B20="--","--",Basisgegevens!E208) -> -- | D20: =IF(B20="--","--",IF(Basisgegevens!C208=1,$B$9,IF(Basisgegevens!D208=1,$B$10,"--"))) -> --
A21: 9 | B21: =IF(TRIM(Basisgegevens!B209)="","--",Basisgegevens!B209) -> -- | C21: =IF(B21="--","--",Basisgegevens!E209) -> -- | D21: =IF(B21="--","--",IF(Basisgegevens!C209=1,$B$9,IF(Basisgegevens!D209=1,$B$10,"--"))) -> --
A22: 10 | B22: =IF(TRIM(Basisgegevens!B210)="","--",Basisgegevens!B210) -> -- | C22: =IF(B22="--","--",Basisgegevens!E210) -> -- | D22: =IF(B22="--","--",IF(Basisgegevens!C210=1,$B$9,IF(Basisgegevens!D210=1,$B$10,"--"))) -> --
A23: 11 | B23: =IF(TRIM(Basisgegevens!B211)="","--",Basisgegevens!B211) -> -- | C23: =IF(B23="--","--",Basisgegevens!E211) -> -- | D23: =IF(B23="--","--",IF(Basisgegevens!C211=1,$B$9,IF(Basisgegevens!D211=1,$B$10,"--"))) -> --
A24: 12 | B24: =IF(TRIM(Basisgegevens!B212)="","--",Basisgegevens!B212) -> -- | C24: =IF(B24="--","--",Basisgegevens!E212) -> -- | D24: =IF(B24="--","--",IF(Basisgegevens!C212=1,$B$9,IF(Basisgegevens!D212=1,$B$10,"--"))) -> --
A26: Samenvatting berekening
A28: Nr. | B28: Onderdeel | E28: ='Alimentatie 2019-2 (Juli)'!$E$3 -> AP | F28: ='Alimentatie 2019-2 (Juli)'!$F$3 -> Kinderalimentie | G28: ='Alimentatie 2019-2 (Juli)'!$G$3 -> AG | H28: ='Alimentatie 2019-2 (Juli)'!$H$3 -> Kinderalimentie
A29: 64 | B29: ='Alimentatie 2019-2 (Juli)'!C47 -> Belastbaar loon: | E29: ='Alimentatie 2019-2 (Juli)'!E47 -> 0 | F29: ='Alimentatie 2019-2 (Juli)'!F47 -> 0 | G29: ='Alimentatie 2019-2 (Juli)'!G47 -> 0 | H29: ='Alimentatie 2019-2 (Juli)'!H47 -> 0
A30: 75 | B30: ='Alimentatie 2019-2 (Juli)'!C66 -> Belastbare winst uit onderneming: | E30: ='Alimentatie 2019-2 (Juli)'!E66 -> 0 | F30: ='Alimentatie 2019-2 (Juli)'!F66 -> 0 | G30: ='Alimentatie 2019-2 (Juli)'!G66 -> 0 | H30: ='Alimentatie 2019-2 (Juli)'!H66 -> 0
A31: 78 | B31: ='Alimentatie 2019-2 (Juli)'!C70 -> Belastbaar resultaat uit overige werkzaamheden: | E31: ='Alimentatie 2019-2 (Juli)'!E70 -> 0 | F31: ='Alimentatie 2019-2 (Juli)'!F70 -> 0 | G31: ='Alimentatie 2019-2 (Juli)'!G70 -> 0 | H31: ='Alimentatie 2019-2 (Juli)'!H70 -> 0
A32: 81 | B32: ='Alimentatie 2019-2 (Juli)'!C74 -> Belastbare periodieke uitkeringen en verstrekkingen: | E32: ='Alimentatie 2019-2 (Juli)'!E74 -> 0 | F32: ='Alimentatie 2019-2 (Juli)'!F74 -> 0 | G32: ='Alimentatie 2019-2 (Juli)'!G74 -> 0 | H32: ='Alimentatie 2019-2 (Juli)'!H74 -> 0
A33: 85 | B33: ='Alimentatie 2019-2 (Juli)'!C80 -> Belastbaar inkomen uit eigen woning: | E33: ='Alimentatie 2019-2 (Juli)'!E80 -> 0 | F33: ='Alimentatie 2019-2 (Juli)'!F80 -> 0 | G33: ='Alimentatie 2019-2 (Juli)'!G80 -> 0 | H33: ='Alimentatie 2019-2 (Juli)'!H80 -> 0
A34: 89 | B34: ='Alimentatie 2019-2 (Juli)'!C86 -> Uitgaven voor inkomensvoorziening: | E34: ='Alimentatie 2019-2 (Juli)'!E86 -> 0 | F34: ='Alimentatie 2019-2 (Juli)'!F86 -> 0 | G34: ='Alimentatie 2019-2 (Juli)'!G86 -> 0 | H34: ='Alimentatie 2019-2 (Juli)'!H86 -> 0
A35: 98 | B35: ='Alimentatie 2019-2 (Juli)'!C114 -> Inkomen uit aanmerkelijk belang: | E35: ='Alimentatie 2019-2 (Juli)'!E114 -> 0 | F35: ='Alimentatie 2019-2 (Juli)'!F114 -> 0 | G35: ='Alimentatie 2019-2 (Juli)'!G114 -> 0 | H35: ='Alimentatie 2019-2 (Juli)'!H114 -> 0
A36: 102 | B36: ='Alimentatie 2019-2 (Juli)'!C125 -> Werkelijke vermogensinkomsten: | E36: ='Alimentatie 2019-2 (Juli)'!E125 -> 0 | F36: ='Alimentatie 2019-2 (Juli)'!F125 -> 0 | G36: ='Alimentatie 2019-2 (Juli)'!G125 -> 0 | H36: ='Alimentatie 2019-2 (Juli)'!H125 -> 0
A37: 119 | B37: ='Alimentatie 2019-2 (Juli)'!C163 -> Totaal Netto inkomsten: | E37: ='Alimentatie 2019-2 (Juli)'!E163 -> 0 | F37: ='Alimentatie 2019-2 (Juli)'!F163 -> 0 | G37: ='Alimentatie 2019-2 (Juli)'!G163 -> 0 | H37: ='Alimentatie 2019-2 (Juli)'!H163 -> 0
A38: 121 | B38: ='Alimentatie 2019-2 (Juli)'!C173 -> Netto Besteedbaar Inkomen (NBI) per maand: | E38: ='Alimentatie 2019-2 (Juli)'!E173 -> 0 | F38: ='Alimentatie 2019-2 (Juli)'!F173 -> 0 | G38: ='Alimentatie 2019-2 (Juli)'!G173 -> 0 | H38: ='Alimentatie 2019-2 (Juli)'!H173 -> 0
A39: 135 | B39: ='Alimentatie 2019-2 (Juli)'!C222 -> Draagkrachtloos inkomen: | E39: ='Alimentatie 2019-2 (Juli)'!E222 -> 893.03 | F39: ='Alimentatie 2019-2 (Juli)'!F222 -> 1020 | G39: ='Alimentatie 2019-2 (Juli)'!G222 -> 893.03 | H39: ='Alimentatie 2019-2 (Juli)'!H222 -> 1020
A40: 136 | B40: ='Alimentatie 2019-2 (Juli)'!C227 -> Draagkrachtruimte: | E40: ='Alimentatie 2019-2 (Juli)'!E227 -> -893.03 | F40: ='Alimentatie 2019-2 (Juli)'!F227 -> -1020 | G40: ='Alimentatie 2019-2 (Juli)'!G227 -> -893.03 | H40: ='Alimentatie 2019-2 (Juli)'!H227 -> -1020
A41: 137 | B41: ='Alimentatie 2019-2 (Juli)'!C232 -> Beschikbaar voor partner en kinderalimentatie | E41: ='Alimentatie 2019-2 (Juli)'!E232 -> -535.818 | F41: ='Alimentatie 2019-2 (Juli)'!F232 -> 0 | G41: ='Alimentatie 2019-2 (Juli)'!G232 -> -535.818 | H41: ='Alimentatie 2019-2 (Juli)'!H232 -> 0
A42: 138 | B42: ='Alimentatie 2019-2 (Juli)'!C234 -> Alimentatieverplichting (eerdere) ex-partner | E42: ='Alimentatie 2019-2 (Juli)'!E234 -> 0 | F42: ='Alimentatie 2019-2 (Juli)'!F233 -> 0 | G42: ='Alimentatie 2019-2 (Juli)'!G234 -> 0 | H42: ='Alimentatie 2019-2 (Juli)'!H234 -> n.v.t
A44: Nr. | B44: Kinderalimentatie | E44: ='Alimentatie 2019-2 (Juli)'!$E$3 -> AP | F44: ='Alimentatie 2019-2 (Juli)'!$F$3 -> Kinderalimentie | G44: ='Alimentatie 2019-2 (Juli)'!$G$3 -> AG | H44: ='Alimentatie 2019-2 (Juli)'!$H$3 -> Kinderalimentie
A45: 141 | B45: ='Alimentatie 2019-2 (Juli)'!C239 -> Kinderalimentatie | E45: n.v.t | F45: ='Alimentatie 2019-2 (Juli)'!E239 -> 0 | G45: n.v.t | H45: ='Alimentatie 2019-2 (Juli)'!G239 -> 0
A46: 141 | B46: ='Alimentatie 2019-2 (Juli)'!C240 -> Verblijfskosten kinderen (Zorgkorting) | F46: ='Alimentatie 2019-2 (Juli)'!E240 -> 0 | H46: ='Alimentatie 2019-2 (Juli)'!G240 -> 0
A47: 141 | B47: ='Alimentatie 2019-2 (Juli)'!C241 -> Eigen aandeel kosten kinderen | F47: ='Alimentatie 2019-2 (Juli)'!E241 -> 0 | H47: ='Alimentatie 2019-2 (Juli)'!G241 -> 0
...

Sheet Handleiding
B1: Gebruiksaanwijzing
A3: LEGENDA: | B3: Als eerste uitleg over de gebruikte kleuren in deze Alimentatie berekeningssheet. | C3: =Basisgegevens!C21 -> 2019 - 2e halfjaar
A4: Kleur | B4: Uitleg over de kleuren & aandachtspunten hierbij
B5: De LICHT-BLAUWE velden zijn invulvelden. Deze velden komen voor in de tabbladen: "Basisgegevens", "Alimentatie 20xx-x" en "Jusvergelijking". Vul LICHT-BLAUWE velden de gevraagde gegevens (indien van toepassing) in. Hiermee worden de berekeningen uitgevoerd in de div. tabbladen.
B6: Als een veld ROOD kleurt, deze dan controleren (wel pas nadat alle gegevens zijn ingevuld). Rood is een signaal dat er iets is wat niet klopt! Bijv. als bij Bijstand "Ja" wordt ingevuld en er geen bedragen in de betreffende inkomstentabel zijn ingevuld zal deze ROOD kleuren.
B7: Als een veld ORANJE kleurt is dat primair een ATTENTIE signaal. Kijk extra naar de inhoud van het veld of alles klopt. De inhoud kan gewoon correct of aangepast zijn. Bijv. als de draagkracht onder de € 0 grens komt zal i.p.v. het minbedrag € 0 worden ingevuld met de ORANJE markering.
B8: De GELE velden markeren de beginregels/kopregels bovenaan de tabellen, de secties etc.
B9: De GRIJZE velden bevatten (net als de groene) velden de formules t.b.v. het maken van de juiste berekeningen. Deze cellen zijn geblokkeerd om te voorkomen dat de formules per ongeluk verminkt/gewist worden
B10: De ROZE velden bevatten berekende subtotalen, dit op basis van de formules in deze velden. Deze cellen zijn geblokkeerd om te voorkomen dat de formules per ongeluk verminkt/gewist worden
B11: De GROENE velden bevatten de berekende (eind)totalen, dit op basis van de formules in deze velden. Deze cellen zijn geblokkeerd om te voorkomen dat de formules per ongeluk verminkt/gewist worden
B13: Hoe te starten ?
B15: Werk de volgende 3 stappen af:
A16: 1 | B16: Tabblad "Basisgevens" | C16: Opmerkingen
B17: Start als 1e in het tabblad "Basisgegevens", die is de primaire bron voor alle berekeningen, vul de van toepassing zijn de LICHT BLAUWE velden in.
B18: - Vul eerst de persoonlijke gegevens in in het blok (A3-J20) en bereken tegelijk ook de pensioendata via de link naar de svb.nl. - Let ook op het invullen/vastzetten van berekeningsdatum (cel C15) - Als het om een HERBEREKENING gaat moet je het NBI uit het jaar van scheiding (cel C20) en het scheidingsjaar (cel C19) ook invullen. Dit is van belang voor de kinderalimentatie berekening! | C18: De link staat achter de betreffende regel !!!
A19: 1a | B19: Werk nu in het blok kolom A t/m K van boven naar beneden de van toepassing zijnde (inkomens)gegevens in:
B20: - Inkomsten uit Arbeid (41, 44, 46 - 48). - Bruto arbeidsinkomen bouw (bij vakantiebonnen) (45). - (Extra) betaalde premies / Inkomensvoorziening (49 - 58). - Bruto AOW-uitkering (42). - Bruto Pensioen uitkering (50). - Bijtelling auto van de zaak. - Ondernemersaftrekposten (71 - 73). - Eigen woningbezit (82 - 84). - Bijstandsuitkering (119a) - Forfaitaire bedragen (123). - Ziektekosten(verzekering) (124). - Gegevens kinderen. | C20: Vergeet niet om voor de juiste periode (maand / 4-weken) te kiezen bij de inkomenstabellen! Berekenen van eventuele toeslagen (zorg-, huurtoeslag etc.) kan via de link bij het betreffende onderdeel.
A21: 1b | B21: Werk nu in het blok kolom L t/m Z van boven naar beneden de van toepassing zijnde antwoorden in bij de:
B22: - Alleenstaande ouderenkorting (115). - Inkomensafhankelijke Combinatiekorting (Werkende / AOW-ers) (115)
A24: 2 | B24: Tabblad "Alimentatie 20xx-x" | C24: Opmerkingen
B25: Loop, na het invullen van de BLAUWE VELDEN in het tabblad "Basisgegevens" langs de - minder vaak voorkomende LICHT BLAUWE velden in het tabblad "Alimentatie 20xx-x"en vul in de van toepassing zijnde velden de juistte gegevens in (soms is er vooraf rekenwerk nodig) | C25: Lees de toelichtingen, opmerkingen en/of aanwijzingen in de kolom "" zorgvuldig.
A27: 3 | B27: Tabblad "Jusvergelijking" | C27: Opmerkingen
B28: Als de uitkomsten van de alimentatieberekening kloppen moet in het tabblad "Jusvergelijking" de "Vrije ruimte" van de beide partners nog in evenwicht worden gebracht. Dit door in cel H12 een zodanig alimentatiebedrag in te vullen dat de "Vrije ruimte" in evenwicht is. Een voorzet voor het (start)bedrag staat in cel J14. | C28: Lees de toelichtingen, opmerkingen en/of aanwijzingen in de kolom "I" zorgvuldig.
B30: De overige tabbladen & hun functie | C30: Opmerkingen
B31: - In het tabblad "Samenvatting" staan de kerngetallen uit de berekening samengevat, samen met de (kinder)alimentatie bedragen
B32: - In het tabblad "Behoefteberekening" staan de details van de alimentatieberekening op basis van de behoefte.
B33: - In het tabblad "Kinderalimentatie" staan de details van de kinderalimentatie berekening.
B34: - In het tabblad "Wijzijgingen & To Do's" staan de gedane aanpassingen en/of de openstaande punten.
B35: - In het tabblad "Keuzelijsten" staan de tabellen met de gegevens voor de keuzelijsten in deze Excel sheet.
B37: Tenslotte:
A38: Noot: | B38: In deze Excel wordt uitgegaan van een werkende die in een "standaard"-scheiding zit. Speciale zaken zoals de invloed van samengestelde gezinnen is hier NIET in opgenomen. Dit gezien de complexiteit en diversiteit hierin. Vaak is in zo'n situatie ook een deskundige vereist.
A39: Vragen? | B39: Bij vragen, wensen of onverhoopte fouten: Mail deze dan samen met je berekening en een eventuele schermafdruk naar: info@levennascheiding.nl. Waar mogelijk en passend ga ik hier dan mee aan de slag!
B41: Advies
A42: ALERT | B42: Is alles helder en oke? Dan wel de dringende aanbeveling om - zeker t.a.v. rechtbankstukken - een officiele berekening te (laten) maken. De mogelijkheden hiervoor tegen relatief geringe kosten (onder de € 100,-) vind je op: https://www.levennascheiding.nl
B44: Disclaimer
B45: Deze gratis Excel sheet is met zorgvuldigheid gemaakt en via proefberekeningen getoetst op juistheid van de verschillende berekeningen. Desondanks is het mogelijk dat er in deze Excel nog onjuistheden en/of onvolkomenheden voorkomen. Noch voor onverhoopte schade etc. als gevolg van onjuistheden en/of onvolkomenheden etc., noch voor problemen bij/door het gebruiken en/of het verspreiden van deze Excel sheet kan ik verantwoording dragen en/of op geen enkele wijze aansprakelijk worden gesteld.

Sheet Basisgegevens
B1: Invulblad voor de benodigde basisgegevens t.b.v. de alimentatieberekening | L1: Te betalen belasting (samengesteld uit de onderstaande 4 tariefsoorten (niet AOW / Geboren voor of juist op/na 01-01-1946 / In berekeningsjaar pas recht op AOW | V1: Belasting t.b.v. JUS-vergelijking | X1: Netto behoefte PA --> Bruto PA
N2: =$C$4 -> AP | R2: =$D$4 -> AG | T2: =$C$4 -> AP | U2: =$D$4 -> AG | V2: =$C$4 -> AP | W2: =$D$4 -> AG | X2: =$D$4 -> AG
A3: Nr. | B3: Algemene gegevens | C3: Partner 1 (AP) | D3: Partner 2 (AG) | E3: Opmerkingen | L3: Verzamelinkomen: | N3: ='Alimentatie 2019-2 (Juli)'!$E$104 -> 0 | O3: = nr.94 | P3: Verzamelinkomen: | R3: ='Alimentatie 2019-2 (Juli)'!$G$104 -> 0 | S3: Verzamelinkomen geschoond van Eigen Woning: | T3: =N3-T4 -> 0 | U3: =R3-U4 -> 0 | V3: JUS-alimentatie: | W3: JUS-alimentatie: | X3: Netto behoefte:
A4: a | B4: Naam | C4: AP | D4: AG | E4: Vul in bij partner 1 de alimatieplichtigde (AP) in en bij partner 2 de alimatatiegerechtigde (AG) | L4: Jaar waarin recht op AOW: | N4: =YEAR($C$9) -> 1900 | P4: Jaar waarin recht op AOW: | R4: =YEAR($D$9) -> 1900 | S4: Invloed Eigen woning: | T4: ='Alimentatie 2019-2 (Juli)'!E80 -> 0 | U4: ='Alimentatie 2019-2 (Juli)'!G80 -> 0 | V4: =Jusvergelijking!H12+Jusvergelijking!E25 -> 0 | W4: =Jusvergelijking!H12+Jusvergelijking!G25 -> 0 | X4: =Behoefteberekening!F59*1.057 -> -0.076104
A5: b | B5: Geboortedatum | C5: 0 | D5: 0 | L5: Huidig berekeningsjaar is: | N5: =$C$16 -> 2019 | P5: Huidig berekeningsjaar is: | R5: =$C$16 -> 2019 | T5: Belasting bij kinderalimentatie | U5: Belasting bij kinderalimentatie | V5: Belasting gecorrigeerd | W5: Belasting gecorrigeerd | X5: Netto behoefte bedrag / jaar | Y5: Bruto behoefte bedrag / jaar
A6: c | B6: Leeftijd (o.b.v. ingevulde berekeningsdatum) | C6: =YEAR($C$15-(C$5-2))-1900 -> 119 | D6: =YEAR($C$15-(D$5-2))-1900 -> 119 | E6: Wordt berekend o.b.v. de geboortedatum & (vastgezette) berekeningsdatum (zie cel C13) | L6: Schijf | M6: Belasting | N6: Samengevoegd | Q6: Belasting | R6: Samengevoegd
A7: d | B7: Inkomsten uit arbeid? | C7: Ja | D7: Ja | E7: Ja invullen als er sprake is van inkomsten uit arbeid (BOX I) | L7: 1 | M7: =IF(Q15="n.v.t",IF(Q25="n.v.t",IF(Q38="n.v.t",IF(Q47="n.v.t",IF(Q48="n.v.t",IF(Q49="n.v.t",IF(Q50="n.v.t",IF(Q51="n.v.t",IF(Q52="n.v.t",IF(Q53="n.v.t",IF(Q54="n.v.t",IF(Q55="n.v.t",IF(Q56="n.v.t",IF(Q57="n.v.t",IF(Q58="n.v.t","???",Q58),Q57),Q56),Q55),Q54),Q53),Q52),Q51),Q50),Q49),Q48),Q47),Q38),Q25),Q15) -> 0 | N7: =IF($Q15="n.v.t",IF($Q25="n.v.t",IF($Q38="n.v.t",IF($Q47="n.v.t",IF($Q48="n.v.t",IF($Q49="n.v.t",IF($Q50="n.v.t",IF($Q51="n.v.t",IF($Q52="n.v.t",IF($Q53="n.v.t",IF($Q54="n.v.t",IF($Q55="n.v.t",IF($Q56="n.v.t",IF($Q57="n.v.t",IF($Q58="n.v.t","???",S58),S57),S56),S55),S54),S53),S52),S51),S50),S49),S48),S47),S38),S25),S15) -> 1: 0 t/m 20384 tarief: 18,75% - Max. 3822 | Q7: =IF(R15="n.v.t",IF(R25="n.v.t",IF(R38="n.v.t",IF(R47="n.v.t",IF(R48="n.v.t",IF(R49="n.v.t",IF(R50="n.v.t",IF(R51="n.v.t",IF(R52="n.v.t",IF(R53="n.v.t",IF(R54="n.v.t",IF(R55="n.v.t",IF(R56="n.v.t",IF(R57="n.v.t",IF(R58="n.v.t","???",R58),R57),R56),R55),R54),R53),R52),R51),R50),R49),R48),R47),R38),R25),R15) -> 0 | R7: =IF($R15="n.v.t",IF($R25="n.v.t",IF($R38="n.v.t",IF($R47="n.v.t",IF($R48="n.v.t",IF($R49="n.v.t",IF($R50="n.v.t",IF($R51="n.v.t",IF($R52="n.v.t",IF($R53="n.v.t",IF($R54="n.v.t",IF($R55="n.v.t",IF($R56="n.v.t",IF($R57="n.v.t",IF($R58="n.v.t","???",S58),S57),S56),S55),S54),S53),S52),S51),S50),S49),S48),S47),S38),S25),S15) -> 1: 0 t/m 20384 tarief: 18,75% - Max. 3822 | T7: =IF(T15="n.v.t",IF(T25="n.v.t",IF(T38="n.v.t",IF(T47="n.v.t",IF(T48="n.v.t",IF(T49="n.v.t",IF(T50="n.v.t",IF(T51="n.v.t",IF(T52="n.v.t",IF(T53="n.v.t",IF(T54="n.v.t",IF(T55="n.v.t",IF(T56="n.v.t",IF(T57="n.v.t",IF(T58="n.v.t","???",T58),T57),T56),T55),T54),T53),T52),T51),T50),T49),T48),T47),T38),T25),T15) -> 0 | U7: =IF(U15="n.v.t",IF(U25="n.v.t",IF(U38="n.v.t",IF(U47="n.v.t",IF(U48="n.v.t",IF(U49="n.v.t",IF(U50="n.v.t",IF(U51="n.v.t",IF(U52="n.v.t",IF(U53="n.v.t",IF(U54="n.v.t",IF(U55="n.v.t",IF(U56="n.v.t",IF(U57="n.v.t",IF(U58="n.v.t","???",U58),U57),U56),U55),U54),U53),U52),U51),U50),U49),U48),U47),U38),U25),U15) -> 0 | V7: =IF(V15="n.v.t",IF(V25="n.v.t",IF(V38="n.v.t",IF(V47="n.v.t",IF(V48="n.v.t",IF(V49="n.v.t",IF(V50="n.v.t",IF(V51="n.v.t",IF(V52="n.v.t",IF(V53="n.v.t",IF(V54="n.v.t",IF(V55="n.v.t",IF(V56="n.v.t",IF(V57="n.v.t",IF(V58="n.v.t","???",V58),V57),V56),V55),V54),V53),V52),V51),V50),V49),V48),V47),V38),V25),V15) -> 0 | W7: =IF(W15="n.v.t",IF(W25="n.v.t",IF(W38="n.v.t",IF(W47="n.v.t",IF(W48="n.v.t",IF(W49="n.v.t",IF(W50="n.v.t",IF(W51="n.v.t",IF(W52="n.v.t",IF(W53="n.v.t",IF(W54="n.v.t",IF(W55="n.v.t",IF(W56="n.v.t",IF(W57="n.v.t",IF(W58="n.v.t","???",W58),W57),W56),W55),W54),W53),W52),W51),W50),W49),W48),W47),W38),W25),W15) -> 0 | X7: =IF(X15="n.v.t",IF(X25="n.v.t",IF(X38="n.v.t",IF(X47="n.v.t",IF(X48="n.v.t",IF(X49="n.v.t",IF(X50="n.v.t",IF(X51="n.v.t",IF(X52="n.v.t",IF(X53="n.v.t",IF(X54="n.v.t",IF(X55="n.v.t",IF(X56="n.v.t",IF(X57="n.v.t",IF(X58="n.v.t","???",X58),X57),X56),X55),X54),X53),X52),X51),X50),X49),X48),X47),X38),X25),X15) -> 0 | Y7: =IF(Y15="n.v.t",IF(Y25="n.v.t",IF(Y38="n.v.t",IF(Y47="n.v.t",IF(Y48="n.v.t",IF(Y49="n.v.t",IF(Y50="n.v.t",IF(Y51="n.v.t",IF(Y52="n.v.t",IF(Y53="n.v.t",IF(Y54="n.v.t",IF(Y55="n.v.t",IF(Y56="n.v.t",IF(Y57="n.v.t",IF(Y58="n.v.t","???",Y58),Y57),Y56),Y55),Y54),Y53),Y52),Y51),Y50),Y49),Y48),Y47),Y38),Y25),Y15) -> 0
A8: e | B8: Bijstandsuitkering? | C8: Nee | D8: Nee | E8: Ja invullen als er sprake is van een (gedeeltelijke) bijstandsuitkering | L8: 2 | M8: =IF(Q16="n.v.t",IF(Q26="n.v.t",IF(Q39="n.v.t",IF(Q59="n.v.t",IF(Q60="n.v.t",IF(Q61="n.v.t",IF(Q62="n.v.t",IF(Q63="n.v.t",IF(Q64="n.v.t",IF(Q65="n.v.t",IF(Q66="n.v.t",IF(Q67="n.v.t",IF(Q68="n.v.t",IF(Q69="n.v.t",IF(Q70="n.v.t","",Q70),Q69),Q68),Q67),Q66),Q65),Q64),Q63),Q62),Q61),Q60),Q59),Q39),Q26),Q16) -> 0 | N8: =IF($Q16="n.v.t",IF($Q26="n.v.t",IF($Q39="n.v.t",IF($Q59="n.v.t",IF($Q60="n.v.t",IF($Q61="n.v.t",IF($Q62="n.v.t",IF($Q63="n.v.t",IF($Q64="n.v.t",IF($Q65="n.v.t",IF($Q66="n.v.t",IF($Q67="n.v.t",IF($Q68="n.v.t",IF($Q69="n.v.t",IF($Q70="n.v.t","",S70),S69),S68),S67),S66),S65),S64),S63),S62),S61),S60),S59),S39),S26),S16) -> 2: 20385 t/m 34817 tarief: 20,2% - Max. 2915 | Q8: =IF(R16="n.v.t",IF(R26="n.v.t",IF(R39="n.v.t",IF(R59="n.v.t",IF(R60="n.v.t",IF(R61="n.v.t",IF(R62="n.v.t",IF(R63="n.v.t",IF(R64="n.v.t",IF(R65="n.v.t",IF(R66="n.v.t",IF(R67="n.v.t",IF(R68="n.v.t",IF(R69="n.v.t",IF(R70="n.v.t","",R70),R69),R68),R67),R66),R65),R64),R63),R62),R61),R60),R59),R39),R26),R16) -> 0 | R8: =IF($R16="n.v.t",IF($R26="n.v.t",IF($R39="n.v.t",IF($R59="n.v.t",IF($R60="n.v.t",IF($R61="n.v.t",IF($R62="n.v.t",IF($R63="n.v.t",IF($R64="n.v.t",IF($R65="n.v.t",IF($R66="n.v.t",IF($R67="n.v.t",IF($R68="n.v.t",IF($R69="n.v.t",IF($R70="n.v.t","",S70),S69),S68),S67),S66),S65),S64),S63),S62),S61),S60),S59),S39),S26),S16) -> 2: 20385 t/m 34817 tarief: 20,2% - Max. 2915 | T8: =IF(T16="n.v.t",IF(T26="n.v.t",IF(T39="n.v.t",IF(T59="n.v.t",IF(T60="n.v.t",IF(T61="n.v.t",IF(T62="n.v.t",IF(T63="n.v.t",IF(T64="n.v.t",IF(T65="n.v.t",IF(T66="n.v.t",IF(T67="n.v.t",IF(T68="n.v.t",IF(T69="n.v.t",IF(T70="n.v.t","",T70),T69),T68),T67),T66),T65),T64),T63),T62),T61),T60),T59),T39),T26),T16) -> 0 | U8: =IF(U16="n.v.t",IF(U26="n.v.t",IF(U39="n.v.t",IF(U59="n.v.t",IF(U60="n.v.t",IF(U61="n.v.t",IF(U62="n.v.t",IF(U63="n.v.t",IF(U64="n.v.t",IF(U65="n.v.t",IF(U66="n.v.t",IF(U67="n.v.t",IF(U68="n.v.t",IF(U69="n.v.t",IF(U70="n.v.t","",U70),U69),U68),U67),U66),U65),U64),U63),U62),U61),U60),U59),U39),U26),U16) -> 0 | V8: =IF(V16="n.v.t",IF(V26="n.v.t",IF(V39="n.v.t",IF(V59="n.v.t",IF(V60="n.v.t",IF(V61="n.v.t",IF(V62="n.v.t",IF(V63="n.v.t",IF(V64="n.v.t",IF(V65="n.v.t",IF(V66="n.v.t",IF(V67="n.v.t",IF(V68="n.v.t",IF(V69="n.v.t",IF(V70="n.v.t","",V70),V69),V68),V67),V66),V65),V64),V63),V62),V61),V60),V59),V39),V26),V16) -> 0 | W8: =IF(W16="n.v.t",IF(W26="n.v.t",IF(W39="n.v.t",IF(W59="n.v.t",IF(W60="n.v.t",IF(W61="n.v.t",IF(W62="n.v.t",IF(W63="n.v.t",IF(W64="n.v.t",IF(W65="n.v.t",IF(W66="n.v.t",IF(W67="n.v.t",IF(W68="n.v.t",IF(W69="n.v.t",IF(W70="n.v.t","",W70),W69),W68),W67),W66),W65),W64),W63),W62),W61),W60),W59),W39),W26),W16) -> 0 | X8: =IF(X16="n.v.t",IF(X26="n.v.t",IF(X39="n.v.t",IF(X59="n.v.t",IF(X60="n.v.t",IF(X61="n.v.t",IF(X62="n.v.t",IF(X63="n.v.t",IF(X64="n.v.t",IF(X65="n.v.t",IF(X66="n.v.t",IF(X67="n.v.t",IF(X68="n.v.t",IF(X69="n.v.t",IF(X70="n.v.t","",X70),X69),X68),X67),X66),X65),X64),X63),X62),X61),X60),X59),X39),X26),X16) -> 0 | Y8: =IF(Y16="n.v.t",IF(Y26="n.v.t",IF(Y39="n.v.t",IF(Y59="n.v.t",IF(Y60="n.v.t",IF(Y61="n.v.t",IF(Y62="n.v.t",IF(Y63="n.v.t",IF(Y64="n.v.t",IF(Y65="n.v.t",IF(Y66="n.v.t",IF(Y67="n.v.t",IF(Y68="n.v.t",IF(Y69="n.v.t",IF(Y70="n.v.t","",Y70),Y69),Y68),Y67),Y66),Y65),Y64),Y63),Y62),Y61),Y60),Y59),Y39),Y26),Y16) -> 0
A9: f | B9: Bereken de pensioendatum op site SVB | C9: 0 | D9: 0 | E9: Bereken de juiste AOW datum op: | G9: https://www.svb.nl/int/nl/aow/wat_is_de_aow/wanneer_aow/ | L9: 3 | M9: =IF(Q17="n.v.t",IF(Q27="n.v.t",IF(Q40="n.v.t",IF(Q71="n.v.t","???",Q71),Q40),Q27),Q17) -> 0 | N9: =IF($Q17="n.v.t",IF($Q27="n.v.t",IF($Q40="n.v.t",IF($Q71="n.v.t","???",S71),S40),S27),S17) -> 3: 34818 t/m 68507 tarief: 38,1% - Max. 12836 | Q9: =IF(R17="n.v.t",IF(R27="n.v.t",IF(R40="n.v.t",IF(R71="n.v.t","???",R71),R40),R27),R17) -> 0 | R9: =IF($R17="n.v.t",IF(R27="n.v.t",IF(R40="n.v.t",IF(R71="n.v.t","???",S71),S40),S27),S17) -> 3: 34818 t/m 68507 tarief: 38,1% - Max. 12836 | T9: =IF(T17="n.v.t",IF(T27="n.v.t",IF(T40="n.v.t",IF(T71="n.v.t","???",T71),T40),T27),T17) -> 0 | U9: =IF(U17="n.v.t",IF(U27="n.v.t",IF(U40="n.v.t",IF(U71="n.v.t","???",U71),U40),U27),U17) -> 0 | V9: =IF(V17="n.v.t",IF(V27="n.v.t",IF(V40="n.v.t",IF(V71="n.v.t","???",V71),V40),V27),V17) -> 0 | W9: =IF(W17="n.v.t",IF(W27="n.v.t",IF(W40="n.v.t",IF(W71="n.v.t","???",W71),W40),W27),W17) -> 0 | X9: =IF(X17="n.v.t",IF(X27="n.v.t",IF(X40="n.v.t",IF(X71="n.v.t","???",X71),X40),X27),X17) -> 0 | Y9: =IF(Y17="n.v.t",IF(Y27="n.v.t",IF(Y40="n.v.t",IF(Y71="n.v.t","???",Y71),Y40),Y27),Y17) -> 0
A10: g | B10: Is o.b.v. berekeningsdatum de AOW-leeftijd bereikt? | C10: =IF(C$9<=$C$15,"Ja","Nee") -> Ja | D10: =IF(D$9<=$C$15,"Ja","Nee") -> Ja | E10: Ja/Nee wordt bepaald o.b.v. de ingevulde pensioendatum & ingevulde berekeningsdatum (cel C13) | L10: 4 | M10: =IF(Q18="n.v.t",IF(Q28="n.v.t",IF(Q41="n.v.t",IF(Q72="n.v.t","???",Q72),Q41),Q28),Q18) -> 0 | N10: =IF($Q18="n.v.t",IF($Q28="n.v.t",IF($Q41="n.v.t",IF($Q72="n.v.t","???",S72),S41),S28),S18) -> 4: vanaf 68508 tarief: 51,75% | Q10: =IF(R18="n.v.t",IF(R28="n.v.t",IF(R41="n.v.t",IF(R72="n.v.t","???",R72),R41),R28),R18) -> 0 | R10: =IF($R18="n.v.t",IF(R28="n.v.t",IF(R41="n.v.t",IF(R72="n.v.t","???",S72),S41),S28),S18) -> 4: vanaf 68508 tarief: 51,75% | T10: =IF(T18="n.v.t",IF(T28="n.v.t",IF(T41="n.v.t",IF(T72="n.v.t","???",T72),T41),T28),T18) -> 0 | U10: =IF(U18="n.v.t",IF(U28="n.v.t",IF(U41="n.v.t",IF(U72="n.v.t","???",U72),U41),U28),U18) -> 0 | V10: =IF(V18="n.v.t",IF(V28="n.v.t",IF(V41="n.v.t",IF(V72="n.v.t","???",V72),V41),V28),V18) -> 0 | W10: =IF(W18="n.v.t",IF(W28="n.v.t",IF(W41="n.v.t",IF(W72="n.v.t","???",W72),W41),W28),W18) -> 0 | X10: =IF(X18="n.v.t",IF(X28="n.v.t",IF(X41="n.v.t",IF(X72="n.v.t","???",X72),X41),X28),X18) -> 0 | Y10: =IF(Y18="n.v.t",IF(Y28="n.v.t",IF(Y41="n.v.t",IF(Y72="n.v.t","???",Y72),Y41),Y28),Y18) -> 0
A11: h | B11: Leeftijd van 66 jaar wordt bereikt op | C11: =DATE(YEAR(C5)+66,MONTH(C5),DAY(C5)) -> 24107 | D11: =DATE(YEAR(D5)+66,MONTH(D5),DAY(D5)) -> 24107 | E11: Wordt gebruikt bij de netto --> bruto alimentatie berekening | M11: =SUM(M7:M10) -> 0 | Q11: =SUM(Q7:Q10) -> 0 | T11: =SUM(T7:T10) -> 0 | U11: =SUM(U7:U10) -> 0 | V11: =SUM(V7:V10) -> 0 | W11: =SUM(W7:W10) -> 0 | X11: =SUM(X7:X10) -> 0 | Y11: =SUM(Y7:Y10) -> 0
A12: i | B12: Leeftijd van 66 jaar + 4 maanden wordt bereikt op | C12: =EDATE(DATE(YEAR(C11),MONTH(C11),DAY(C11)),4) -> 24227 | D12: =EDATE(DATE(YEAR(D11),MONTH(D11),DAY(D11)),4) -> 24227 | E12: Wordt gebruikt bij de netto --> bruto alimentatie berekening
L13: Belasting schijf box 1 in 2019 AOW leeftijd nog niet bereikt | P13: https://www.belastingdienst.nl/wps/wcm/connect/bldcontentnl/belastingdienst/prive/inkomstenbelasting/heffingskortingen_boxen_tarieven/boxen_en_tarieven/overzicht_tarieven_en_schijven/ | T13: Belasting bij kinderalimentatie | U13: Belasting bij kinderalimentatie | V13: Belasting | W13: Belasting | X13: Netto behoefte bedrag | Y13: Bruto behoefte bedrag
A14: Nr. | B14: Berekeningsdatum & jaar | C14: Waarde | D14: Opmerkingen | L14: Schijf | M14: Vanaf | N14: Tot en met | O14: Percentage | P14: Maximaal | Q14: =$C$4 -> AP | R14: =$D$4 -> AG | S14: Samengevoegd
A15: j | B15: Berekeningsdatum vastgezet op | C15: 43466 | D15: Vul hier de datum is waarop de berekening moet worden vastgezet, standaard staat hier de datum van vandaag | L15: 1 | M15: 0 | N15: 20384 | O15: 0.3665 | P15: =ROUND(O15*N15,0) -> 7471 | Q15: =IF(C$10="Nee",IF($N$3>$N15,$N15*$O15,$N$3*$O15),"n.v.t") -> n.v.t | R15: =IF(D$10="Nee",IF($R$3>$N15,$N15*$O15,$R$3*$O15),"n.v.t") -> n.v.t | S15: =CONCATENATE(L15,": ",M15," t/m ",N15," tarief: ",(O15*100),"% - Max. ",ROUND(P15,0)) -> 1: 0 t/m 20384 tarief: 36,65% - Max. 7471 | T15: =IF(C$10="Nee",IF($T$3>$N15,$N15*$O15,$T$3*$O15),"n.v.t") -> n.v.t | U15: =IF(D$10="Nee",IF($U$3>$N15,$N15*$O15,$U$3*$O15),"n.v.t") -> n.v.t | V15: =IF(C$10="Nee",IF($N$3-$V$4>$N15,$N15*$O15,($N$3-$V$4)*$O15),"n.v.t") -> n.v.t | W15: =IF(D$10="Nee",IF($R$3+$W$4>$N15,$N15*$O15,($R$3+$W$4)*$O15),"n.v.t") -> n.v.t | X15: =IF($D$10="Nee",IF($X$4<=$M15,0,IF($X$4>$N15-SUM($P$15:$P15),$N15-$P15,$X$4)),"n.v.t") -> n.v.t | Y15: =IF(X15="n.v.t",X15,X15/(1-$O15)) -> n.v.t
A16: k | B16: Alimentatieberekeningsjaar | C16: =YEAR(C15) -> 2019 | D16: Deze wordt bepaald o.b.v. berekeningsdatum, wordt gebruikt in de diverse tabellen om de juiste tabel te kiezen | L16: 2 | M16: =N15+1 -> 20385 | N16: 34300 | O16: 0.381 | P16: =ROUND(O16*(N16-N15),0) -> 5302 | Q16: =IF(C$10="Nee",IF($N$3<$M16,0,IF($N$3>$N16,($N16-$N15)*$O16,($N$3-$N15)*$O16)),"n.v.t") -> n.v.t | R16: =IF(D$10="Nee",IF($R$3<$M16,0,IF($R$3>$N16,($N16-$N15)*$O16,($R$3-$N15)*$O16)),"n.v.t") -> n.v.t | S16: =CONCATENATE(L16,": ",M16," t/m ",N16," tarief: ",(O16*100),"% - Max. ",ROUND(P16,0)) -> 2: 20385 t/m 34300 tarief: 38,1% - Max. 5302 | T16: =IF(C$10="Nee",IF($T$3<$M16,0,IF($T$3>$N16,($N16-$N15)*$O16,($T$3-$N15)*$O16)),"n.v.t") -> n.v.t | U16: =IF(D$10="Nee",IF($U$3<$M16,0,IF($U$3>$N16,($N16-$N15)*$O16,($U$3-$N15)*$O16)),"n.v.t") -> n.v.t | V16: =IF(C$10="Nee",IF($N$3-$V$4<$M16,0,IF($N$3-$V$4>$N16,($N16-$N15)*$O16,($N$3-$V$4-$N15)*$O16)),"n.v.t") -> n.v.t | W16: =IF(D$10="Nee",IF($R$3+$W$4<$M16,0,IF($R$3+$W$4>$N16,($N16-$N15)*$O16,($R$3+$W$4-$N15)*$O16)),"n.v.t") -> n.v.t | X16: =IF($D$10="Nee",IF($X$4<$M16-SUM($P$15:$P15),0,IF($X$4>$N16-SUM($P$15:$P16),$N16-$M16-$P16,$X$4-SUM(X$15:X15))),"n.v.t") -> n.v.t | Y16: =IF(X16="n.v.t",X16,X16/(1-$O16)) -> n.v.t
L17: 3 | M17: =N16+1 -> 34301 | N17: 68507 | O17: 0.381 | P17: =ROUND(O17*(N17-N16),0) -> 13033 | Q17: =IF(C$10="Nee",IF($N$3<$M17,0,IF($N$3>$N17,($N17-$N16)*$O17,($N$3-$N16)*$O17)),"n.v.t") -> n.v.t | R17: =IF(D$10="Nee",IF($R$3<$M17,0,IF($R$3>$N17,($N17-$N16)*$O17,($R$3-$N16)*$O17)),"n.v.t") -> n.v.t | S17: =CONCATENATE(L17,": ",M17," t/m ",N17," tarief: ",(O17*100),"% - Max. ",ROUND(P17,0)) -> 3: 34301 t/m 68507 tarief: 38,1% - Max. 13033 | T17: =IF(C$10="Nee",IF($T$3<$M17,0,IF($T$3>$N17,($N17-$N16)*$O17,($T$3-$N16)*$O17)),"n.v.t") -> n.v.t | U17: =IF(D$10="Nee",IF($U$3<$M17,0,IF($U$3>$N17,($N17-$N16)*$O17,($U$3-$N16)*$O17)),"n.v.t") -> n.v.t | V17: =IF(C$10="Nee",IF($N$3-$V$4<$M17,0,IF($N$3-$V$4>$N17,($N17-$N16)*$O17,($N$3-$V$4-$N16)*$O17)),"n.v.t") -> n.v.t | W17: =IF(D$10="Nee",IF($R$3+$W$4<$M17,0,IF($R$3+$W$4>$N17,($N17-$N16)*$O17,($R$3+$W$4-$N16)*$O17)),"n.v.t") -> n.v.t | X17: =IF($D$10="Nee",IF($X$4<$M17-SUM($P$15:$P16),0,IF($X$4>$N17-SUM($P$15:$P17),$N17-$M17-$P17,$X$4-SUM(X$15:X16))),"n.v.t") -> n.v.t | Y17: =IF(X17="n.v.t",X17,X17/(1-$O17)) -> n.v.t
A18: Nr. | B18: (Eerdere) alimentatie gegevens: | C18: Waarde | D18: Opmerkingen | L18: 4 | M18: =N17+1 -> 68508 | O18: 0.5175 | P18: =IF(N3<M18,0,(N3-Basisgegevens!N17)*Basisgegevens!O18) -> 0 | Q18: =IF(C$10="Nee",IF($N$3<$M18,0,($N$3-$N17)*$O18),"n.v.t") -> n.v.t | R18: =IF(D$10="Nee",IF($R$3<$M18,0,($R$3-$N17)*$O18),"n.v.t") -> n.v.t | S18: =CONCATENATE(L18,": vanaf ",M18," tarief: ",(O18*100),"%") -> 4: vanaf 68508 tarief: 51,75% | T18: =IF(C$10="Nee",IF($T$3<$M18,0,($T$3-$N17)*$O18),"n.v.t") -> n.v.t | U18: =IF(D$10="Nee",IF($U$3<$M18,0,($U$3-$N17)*$O18),"n.v.t") -> n.v.t | V18: =IF(C$10="Nee",IF($N$3-$V$4<$M18,0,($N$3-$V$4-$N17)*$O18),"n.v.t") -> n.v.t | W18: =IF(D$10="Nee",IF($R$3+$W$4<$M18,0,($R$3+$W$4-$N17)*$O18),"n.v.t") -> n.v.t | X18: =IF($D$10="Nee",IF($X$4<$M18-SUM($P$15:$P17),0,IF($X$4>=$M18-SUM($P$15:$P17),$X$4-SUM(X$15:X17))),"n.v.t") -> n.v.t | Y18: =IF(X18="n.v.t",X18,X18/(1-$O18)) -> n.v.t
A19: l | B19: Jaar van scheiding (t.b.v. NBI K.A.) | C19: =YEAR(C15) -> 2019 | D19: Als het om een herberekening gaat hier het jaar waarin de officiele scheiding is uitgesproken invullen | O19: Verschuldigde belasting: | Q19: =SUM(Q15:Q18) -> 0 | R19: =SUM(R15:R18) -> 0 | T19: =SUM(T15:T18) -> 0 | U19: =SUM(U15:U18) -> 0 | V19: =SUM(V15:V18) -> 0 | W19: =SUM(W15:W18) -> 0 | X19: =SUM(X15:X18) -> 0 | Y19: =SUM(Y15:Y18) -> 0
A20: m | B20: Vastgesteld NBI in (eerdere) scheidingsjaar | C20: 0 | D20: Als het om een herberekening gaat hier het Netto Besteedbaar Gezinsinkomen uit het jaar van scheiding invullen
A21: n | B21: Berekeningstijdvak | C21: 2019 - 2e halfjaar
L22: Belasting schijf box 1 AOW leeftijd is VOOR 2019 bereikt EN: | P22: https://www.belastingdienst.nl/wps/wcm/connect/bldcontentnl/belastingdienst/prive/inkomstenbelasting/heffingskortingen_boxen_tarieven/boxen_en_tarieven/overzicht_tarieven_en_schijven/
A23: 41 | B23: Inkomsten uit arbeid | C23: =$C$4 -> AP | E23: =$D$4 -> AG | M23: Geboren voor: | N23: 16803 | T23: Belasting bij kinderalimentatie | U23: Belasting bij kinderalimentatie | V23: Netto behoefte bedrag | W23: Bruto behoefte bedrag | X23: Netto behoefte bedrag | Y23: Bruto behoefte bedrag
B24: Loon per: | C24: Maand | D24: Loon per: | E24: Maand | L24: Schijf | M24: Begin | N24: Eind | O24: Percentage | P24: Maximaal | Q24: =$C$4 -> AP | R24: =$D$4 -> AG | S24: Samengevoegd
A25: Nr. | B25: Omschrijving | C25: =IF(C24="Maand","Maandloon",IF(C24="4 Weken","4-Wekenloon",IF(C24="Anders","Anders",""))) -> Maandloon | D25: Jaarloon | E25: =IF(E24="Maand","Maandloon",IF(E24="4 Weken","4-Wekenloon",IF(E24="Anders","Anders",""))) -> Maandloon | F25: Jaarloon | G25: Opmerkingen | L25: 1 | M25: 0 | N25: 20384 | O25: 0.1875 | P25: =O25*N25 -> 3822 | Q25: =IF(AND(C$5<$N$23,C$10="Ja"),IF($N$3>$N25,$N25*$O25,$N$3*$O25),"n.v.t") -> 0 | R25: =IF(AND(D$5<$N$23,D$10="Ja"),IF($R$3>$N25,$N25*$O25,$R$3*$O25),"n.v.t") -> 0 | S25: =CONCATENATE(L25,": ",M25," t/m ",N25," tarief: ",(O25*100),"% - Max. ",ROUND(P25,0)) -> 1: 0 t/m 20384 tarief: 18,75% - Max. 3822 | T25: =IF(AND(C$5<$N$23,C$10="Ja"),IF($T$3>$N25,$N25*$O25,$T$3*$O25),"n.v.t") -> 0 | U25: =IF(AND(D$5<$N$23,D$10="Ja"),IF($U$3>$N25,$N25*$O25,$U$3*$O25),"n.v.t") -> 0 | V25: =IF(AND(C$5<$N$23,C$10="Ja"),IF($N$3-$V$4>$N25,$N25*$O25,($N$3-$V$4)*$O25),"n.v.t") -> 0 | W25: =IF(AND(D$5<$N$23,D$10="Ja"),IF($R$3+$W$4>$N25,$N25*$O25,($R$3+$W$4)*$O25),"n.v.t") -> 0 | X25: =IF(AND(D$5<$N$23,D$10="Ja"),IF($X$4<=M25,0,IF($X$4>N25-SUM(P$25:P25),N25-P25,$X$4)),"n.v.t") -> 0 | Y25: =IF(X25="n.v.t",X25,X25/(1-$O25)) -> 0
B26: Bruto salaris | C26: 0 | D26: =IF(C$24="Maand",C26*12,IF(C$24="4 Weken",C26*13,0)) -> 0 | E26: 0 | F26: =IF(E$24="Maand",E26*12,IF(E$24="4 Weken",E26*13,0)) -> 0 | G26: Telt mee in vakantiegeldberekening | L26: 2 | M26: =N25+1 -> 20385 | N26: 34817 | O26: 0.202 | P26: =O26*(N26-N25) -> 2915.466 | Q26: =IF(AND(C$5<$N$23,C$10="Ja"),IF($N$3<$M26,0,IF($N$3>$N26,($N26-$N25)*$O26,($N$3-$N25)*$O26)),"n.v.t") -> 0 | R26: =IF(AND(D$5<$N$23,D$10="Ja"),IF($R$3<$M26,0,IF($R$3>$N26,($N26-$N25)*$O26,($R$3-$N25)*$O26)),"n.v.t") -> 0 | S26: =CONCATENATE(L26,": ",M26," t/m ",N26," tarief: ",(O26*100),"% - Max. ",ROUND(P26,0)) -> 2: 20385 t/m 34817 tarief: 20,2% - Max. 2915 | T26: =IF(AND(C$5<$N$23,C$10="Ja"),IF($T$3<$M26,0,IF($T$3>$N26,($N26-$N25)*$O26,($T$3-$N25)*$O26)),"n.v.t") -> 0 | U26: =IF(AND(D$5<$N$23,D$10="Ja"),IF($U$3<$M26,0,IF($U$3>$N26,($N26-$N25)*$O26,($U$3-$N25)*$O26)),"n.v.t") -> 0 | V26: =IF(AND(C$5<$N$23,C$10="Ja"),IF($N$3-$V$4<$M26,0,IF($N$3-$V$4>$N26,($N26-$N25)*$O26,($N$3-$V$4-$N25)*$O26)),"n.v.t") -> 0 | W26: =IF(AND(D$5<$N$23,D$10="Ja"),IF($R$3+$W$4<$M26,0,IF($R$3+$W$4>$N26,($N26-$N25)*$O26,($R$3+$W$4-$N25)*$O26)),"n.v.t") -> 0 | X26: =IF(AND(D$5<$N$23,D$10="Ja"),IF($X$4<M26-SUM(P$25:P25),0,IF($X$4>N26-SUM(P$25:P26),N26-M26-P26,$X$4-SUM(X$25:X25))),"n.v.t") -> 0 | Y26: =IF(X26="n.v.t",X26,X26/(1-$O26)) -> 0
B27: (Vaste) toelage | C27: 0 | D27: =IF(C$24="Maand",C27*12,IF(C$24="4 Weken",C27*13,0)) -> 0 | E27: 0 | F27: =IF(E$24="Maand",E27*12,IF(E$24="4 Weken",E27*13,0)) -> 0 | G27: Telt mee in vakantiegeldberekening | L27: 3 | M27: =N26+1 -> 34818 | N27: 68507 | O27: 0.381 | P27: =O27*(N27-N26) -> 12835.89 | Q27: =IF(AND(C$5<$N$23,C$10="Ja"),IF($N$3<$M27,0,IF($N$3>$N27,($N27-$N26)*$O27,($N$3-$N26)*$O27)),"n.v.t") -> 0 | R27: =IF(AND(D$5<$N$23,D$10="Ja"),IF($R$3<$M27,0,IF($R$3>$N27,($N27-$N26)*$O27,($R$3-$N26)*$O27)),"n.v.t") -> 0 | S27: =CONCATENATE(L27,": ",M27," t/m ",N27," tarief: ",(O27*100),"% - Max. ",ROUND(P27,0)) -> 3: 34818 t/m 68507 tarief: 38,1% - Max. 12836 | T27: =IF(AND(C$5<$N$23,C$10="Ja"),IF($T$3<$M27,0,IF($T$3>$N27,($N27-$N26)*$O27,($T$3-$N26)*$O27)),"n.v.t") -> 0 | U27: =IF(AND(D$5<$N$23,D$10="Ja"),IF($U$3<$M27,0,IF($U$3>$N27,($N27-$N26)*$O27,($U$3-$N26)*$O27)),"n.v.t") -> 0 | V27: =IF(AND(C$5<$N$23,C$10="Ja"),IF($N$3-$V$4<$M27,0,IF($N$3-$V$4>$N27,($N27-$N26)*$O27,($N$3-$V$4-$N26)*$O27)),"n.v.t") -> 0 | W27: =IF(AND(D$5<$N$23,D$10="Ja"),IF($R$3+$W$4<$M27,0,IF($R$3+$W$4>$N27,($N27-$N26)*$O27,($R$3+$W$4-$N26)*$O27)),"n.v.t") -> 0 | X27: =IF(AND(D$5<$N$23,D$10="Ja"),IF($X$4<M27-SUM(P$25:P26),0,IF($X$4>N27-SUM(P$25:P27),N27-M27-P27,$X$4-SUM(X$25:X26))),"n.v.t") -> 0 | Y27: =IF(X27="n.v.t",X27,X27/(1-$O27)) -> 0
B28: Inkomenstoeslag / Bonus | C28: 0 | D28: =IF(C$24="Maand",C28*12,IF(C$24="4 Weken",C28*13,0)) -> 0 | E28: 0 | F28: =IF(E$24="Maand",E28*12,IF(E$24="4 Weken",E28*13,0)) -> 0 | G28: Telt niet mee in de berekening van het vakantiegeld | L28: 4 | M28: =N27+1 -> 68508 | O28: 0.5175 | P28: =IF(Q23<M28,0,(Q23-Basisgegevens!N27)*Basisgegevens!O28) -> 0 | Q28: =IF(AND(C$5<$N$23,C$10="Ja"),IF($N$3<$M28,0,($N$3-$N27)*$O28),"n.v.t") -> 0 | R28: =IF(AND(D$5<$N$23,D$10="Ja"),IF($R$3<$M28,0,($R$3-$N27)*$O28),"n.v.t") -> 0 | S28: =CONCATENATE(L28,": vanaf ",M28," tarief: ",(O28*100),"%") -> 4: vanaf 68508 tarief: 51,75% | T28: =IF(AND(C$5<$N$23,C$10="Ja"),IF($T$3<$M28,0,($T$3-$N27)*$O28),"n.v.t") -> 0 | U28: =IF(AND(D$5<$N$23,D$10="Ja"),IF($U$3<$M28,0,($U$3-$N27)*$O28),"n.v.t") -> 0 | V28: =IF(AND(C$5<$N$23,C$10="Ja"),IF($N$3-$V$4<$M28,0,($N$3-$V$4-$N27)*$O28),"n.v.t") -> 0 | W28: =IF(AND(D$5<$N$23,D$10="Ja"),IF($R$3+$W$4<$M28,0,($R$3+$W$4-$N27)*$O28),"n.v.t") -> 0 | X28: =IF(AND(D$5<$N$23,D$10="Ja"),IF($X$4<M28-SUM(P$25:P27),0,IF($X$4>=M28-SUM(P$25:P27),$X$4-SUM(X$25:X27))),"n.v.t") -> 0 | Y28: =IF(X28="n.v.t",X28,X28/(1-$O28)) -> 0
A29: 41 | B29: Totaal bruto maandloon | C29: =SUM(C26:C28) -> 0 | D29: =SUM(D26:D28) -> 0 | E29: =SUM(E26:E28) -> 0 | F29: =SUM(F26:F28) -> 0 | O29: Verschuldigde belasting: | Q29: =SUM(Q25:Q28) -> 0 | R29: =SUM(R25:R28) -> 0 | T29: =SUM(T25:T28) -> 0 | U29: =SUM(U25:U28) -> 0 | V29: =SUM(V25:V28) -> 0 | W29: =SUM(W25:W28) -> 0 | X29: =SUM(X25:X28) -> 0 | Y29: =SUM(Y25:Y28) -> 0
A30: 46 | B30: (Structurele) inkomsten uit overwerk | C30: 0 | D30: =IF(C$24="Maand",C30*12,IF(C$24="4 Weken",C30*13,0)) -> 0 | E30: 0 | F30: =IF(E$24="Maand",E30*12,IF(E$24="4 Weken",E30*13,0)) -> 0 | G30: Telt vanaf 1-1-2019 mee in vakantiegeldberekening
A31: 44 | B31: Vakantietoeslag (vul % in) | C31: 0.08 | D31: =C31*(D26+D27+D30) -> 0 | E31: 0.08 | F31: =E31*(F26+F27+F30) -> 0
B32: Vakantiegeld telt mee in jaarloon voor post 48? | C32: Nee | E32: Nee
A33: 47 | B33: 13e maand / 14e periodiek | C33: 0 | D33: =IF(C$24="Anders",0,C33) -> 0 | E33: 0 | F33: =IF(E$24="Anders",0,E33) -> 0
A34: 48 | B34: Eindejaarsuitkering (vul % in) | C34: 0 | D34: =IF(C32="Ja",(D26+D31)*C34,D26*C34) -> 0 | E34: 0 | F34: =IF(E32="Ja",(F26+F31)*E34,F26*E34) -> 0
B35: Bruto jaarloon | D35: =SUM(D29:D34) -> 0 | F35: =SUM(F29:F34) -> 0 | L35: Belasting schijf box 1 AOW leeftijd is VOOR 2019 bereikt EN: | P35: https://www.belastingdienst.nl/wps/wcm/connect/bldcontentnl/belastingdienst/prive/inkomstenbelasting/heffingskortingen_boxen_tarieven/boxen_en_tarieven/overzicht_tarieven_en_schijven/
M36: Geboren op/na: | N36: =N23 -> 16803 | O36: Geboren voor: | P36: 19360 | T36: Belasting bij kinderalimentatie | U36: Belasting bij kinderalimentatie | V36: Netto behoefte bedrag | W36: Bruto behoefte bedrag | X36: Netto behoefte bedrag | Y36: Bruto behoefte bedrag
A37: 45 | B37: Bruto arbeidsinkomen bouw inclusief belast deel waarde vakantiebonnen | L37: Schijf | M37: Begin | N37: Eind | O37: Percentage | P37: Maximaal | Q37: =$C$4 -> AP | R37: =$D$4 -> AG | S37: Samengevoegd
A38: Nr. | B38: Omschrijving | C38: =$C$4 -> AP | D38: Jaarloon | E38: =$D$4 -> AG | F38: Jaarloon | G38: Opmerkingen | L38: 1 | M38: 0 | N38: 20384 | O38: 0.1875 | P38: =O38*N38 -> 3822 | Q38: =IF(AND(C$5>=$N$36,C$5<$P$36,C$10="Ja"),IF($N$3>$N38,$N38*$O38,$N$3*$O38),"n.v.t") -> n.v.t | R38: =IF(AND(D$5>=$N$36,D$5<$P$36,D$10="Ja"),IF($R$3>$N38,$N38*$O38,$R$3*$O38),"n.v.t") -> n.v.t | S38: =CONCATENATE(L38,": ",M38," t/m ",N38," tarief: ",(O38*100),"% - Max. ",ROUND(P38,0)) -> 1: 0 t/m 20384 tarief: 18,75% - Max. 3822 | T38: =IF(AND(C$5>=$N$36,C$5<$P$36,C$10="Ja"),IF($T$3>$N38,$N38*$O38,$T$3*$O38),"n.v.t") -> n.v.t | U38: =IF(AND(D$5>=$N$36,D$5<$P$36,D$10="Ja"),IF($U$3>$N38,$N38*$O38,$U$3*$O38),"n.v.t") -> n.v.t | V38: =IF(AND(C$5>=$N$36,C$5<$P$36,C$10="Ja"),IF($N$3-$V$4>$N38,$N38*$O38,($N$3-$V$4)*$O38),"n.v.t") -> n.v.t | W38: =IF(AND(D$5>=$N$36,D$5<$P$36,D$10="Ja"),IF($R$3+$W$4>$N38,$N38*$O38,($R$3+$W$4)*$O38),"n.v.t") -> n.v.t | X38: =IF(AND(D$5>=$N$36,D$5<=$P$36,D$10="Ja"),IF($X$4<M38,0,IF($X$4>N38-SUM(P$38:P38),N38-P38,$X$4)),"n.v.t") -> n.v.t | Y38: =IF(X38="n.v.t",X38,X38/(1-$O38)) -> n.v.t
B39: Bruto weekinkomen | C39: 0 | E39: 0 | G39: Dit is de gebruikelijke berekening als er sprake is van een weekloon: (46 x bruto weekloon) + (46 x belaste waarde vakantiebonnen) | L39: 2 | M39: =N38+1 -> 20385 | N39: 34300 | O39: 0.202 | P39: =O39*(N39-N38) -> 2811.032 | Q39: =IF(AND(C$5>=$N$36,C$5<$P$36,C$10="Ja"),IF($N$3<$M39,0,IF($N$3>$N39,($N39-$N38)*$O39,($N$3-$N38)*$O39)),"n.v.t") -> n.v.t | R39: =IF(AND(D$5>=$N$36,D$5<$P$36,D$10="Ja"),IF($R$3<$M39,0,IF($R$3>$N39,($N39-$N38)*$O39,($R$3-$N38)*$O39)),"n.v.t") -> n.v.t | S39: =CONCATENATE(L39,": ",M39," t/m ",N39," tarief: ",(O39*100),"% - Max. ",ROUND(P39,0)) -> 2: 20385 t/m 34300 tarief: 20,2% - Max. 2811 | T39: =IF(AND(C$5>=$N$36,C$5<$P$36,C$10="Ja"),IF($T$3<$M39,0,IF($T$3>$N39,($N39-$N38)*$O39,($T$3-$N38)*$O39)),"n.v.t") -> n.v.t | U39: =IF(AND(D$5>=$N$36,D$5<$P$36,D$10="Ja"),IF($U$3<$M39,0,IF($U$3>$N39,($N39-$N38)*$O39,($U$3-$N38)*$O39)),"n.v.t") -> n.v.t | V39: =IF(AND(C$5>=$N$36,C$5<$P$36,C$10="Ja"),IF($N$3-$V$4<$M39,0,IF($N$3-$V$4>$N39,($N39-$N38)*$O39,($N$3-$V$4-$N38)*$O39)),"n.v.t") -> n.v.t | W39: =IF(AND(D$5>=$N$36,D$5<$P$36,D$10="Ja"),IF($R$3+$W$4<$M39,0,IF($R$3+$W$4>$N39,($N39-$N38)*$O39,($R$3+$W$4-$N38)*$O39)),"n.v.t") -> n.v.t | X39: =IF(AND(D$5>=$N$36,D$5<$P$36,D$10="Ja"),IF($X$4<M39-SUM(P$38:P38),0,IF($X$4>N39-SUM(P$38:P39),N39-M39-P39,$X$4-SUM(X$38:X38))),"n.v.t") -> n.v.t | Y39: =IF(X39="n.v.t",X39,X39/(1-$O39)) -> n.v.t
B40: Belaste waarde van de vakantiebonnen | C40: 0 | E40: 0 | L40: 3 | M40: =N39+1 -> 34301 | N40: 68507 | O40: 0.381 | P40: =O40*(N40-N39) -> 13032.867 | Q40: =IF(AND(C$5>=$N$36,C$5<$P$36,C$10="Ja"),IF($N$3<$M40,0,IF($N$3>$N40,($N40-$N39)*$O40,($N$3-$N39)*$O40)),"n.v.t") -> n.v.t | R40: =IF(AND(D$5>=$N$36,D$5<$P$36,D$10="Ja"),IF($R$3<$M40,0,IF($R$3>$N40,($N40-$N39)*$O40,($R$3-$N39)*$O40)),"n.v.t") -> n.v.t | S40: =CONCATENATE(L40,": ",M40," t/m ",N40," tarief: ",(O40*100),"% - Max. ",ROUND(P40,0)) -> 3: 34301 t/m 68507 tarief: 38,1% - Max. 13033 | T40: =IF(AND(C$5>=$N$36,C$5<$P$36,C$10="Ja"),IF($T$3<$M40,0,IF($T$3>$N40,($N40-$N39)*$O40,($T$3-$N39)*$O40)),"n.v.t") -> n.v.t | U40: =IF(AND(D$5>=$N$36,D$5<$P$36,D$10="Ja"),IF($U$3<$M40,0,IF($U$3>$N40,($N40-$N39)*$O40,($U$3-$N39)*$O40)),"n.v.t") -> n.v.t | V40: =IF(AND(C$5>=$N$36,C$5<$P$36,C$10="Ja"),IF($N$3-$V$4<$M40,0,IF($N$3-$V$4>$N40,($N40-$N39)*$O40,($N$3-$V$4-$N39)*$O40)),"n.v.t") -> n.v.t | W40: =IF(AND(D$5>=$N$36,D$5<$P$36,D$10="Ja"),IF($R$3+$W$4<$M40,0,IF($R$3+$W$4>$N40,($N40-$N39)*$O40,($R$3+$W$4-$N39)*$O40)),"n.v.t") -> n.v.t | X40: =IF(AND(D$5>=$N$36,D$5<$P$36,D$10="Ja"),IF($X$4<M40-SUM(P$38:P39),0,IF($X$4>N40-SUM(P$38:P40),N40-M40-P40,$X$4-SUM(X$38:X39))),"n.v.t") -> n.v.t | Y40: =IF(X40="n.v.t",X40,X40/(1-$O40)) -> n.v.t
...

Sheet Alimentatie 2019-2 (Juli)
A1: 1 | C1: Bruto methode
A2: 2
A3: Nr. | B3: Nr | C3: Onderwerp / Onderdeel | D3: +/- | E3: =Basisgegevens!C4 -> AP | F3: Kinderalimentie | G3: =Basisgegevens!D4 -> AG | H3: Kinderalimentie | I3: Toelichting / uitleg / Wetenwaardigheden
A4: 4
A5: 5 | C5: BOX I: Inkomen uit woning en werk
A6: 6 | C6: Loon
A7: 7 | B7: 41 | C7: Bruto arbeidsinkomen uit dienstbetrekking | D7: + | E7: =Basisgegevens!D29 -> 0 | F7: n.v.t | G7: =Basisgegevens!F26 -> 0 | H7: n.v.t | I7: Gebruik de loonstroken van een compleet jaar LET OP: Inkomsten van werknemers die vakantiebonnen ontvangen moeten bij nr. 45 worden ingevuld, niet hier!
A8: 8 | B8: 42 | C8: Bruto AOW-uitkering (geen premies werknemersverzekeringen) | D8: + | E8: =Basisgegevens!D50 -> 0 | G8: =Basisgegevens!F50 -> 0 | I8: Uitkering in het kader van WW-, WAO/WIA- en AOW-uitkering
A9: 9 | B9: 43 | C9: Bruto uitkering andere sociale verzekeringswetten | D9: + | E9: =Basisgegevens!D57 -> 0 | G9: =Basisgegevens!F57 -> 0 | I9: Uitkering in het kader van andere sociale verzekeringswetten (o.a. bijstand)
A10: 10 | B10: 44 | C10: Vakantietoeslag (8%) | D10: + | E10: =SUM(Basisgegevens!D31+Basisgegevens!D58) -> 0 | G10: =SUM(Basisgegevens!F31+Basisgegevens!F58) -> 0 | I10: Bij een ZW-uitkering van het UWV blijft recht op de Arbeidskorting bestaan.
A11: 11 | B11: 45 | C11: Bruto arbeidsinkomen bouw inclusief belast deel waarde vakantiebonnen, 46 weken (zie 118 belast deel) | D11: + | E11: =IF(Basisgegevens!D43>0,Basisgegevens!D43,Basisgegevens!D41) -> 0 | G11: =IF(Basisgegevens!F43>0,Basisgegevens!F43,Basisgegevens!F41) -> 0 | I11: Komt in plaats van post 41 als er sprake in van loon en vakantiebonnen, dit Inkomen kan niet zonder meer uit de salarisspecificatie worden afgelezen maar moet worden berekend!
A12: 12 | B12: 46 | C12: Inkomen uit overwerk (hier ook vakantiegeld over per 1-1-2019) | D12: + | E12: =Basisgegevens!D30 -> 0 | G12: =Basisgegevens!F30 -> 0 | I12: Dit is een lastig vast te stellen post. Mag en kan men vrijwillig stoppen? Ook al tijdens de relatie? Bij schommelingen middelen!
A13: 13 | B13: 47 | C13: 13e maand / 14e periodiek | D13: + | E13: =Basisgegevens!D33 -> 0 | G13: =Basisgegevens!F33 -> 0
A14: 14 | B14: 48 | C14: Belaste gratificaties, tantiemes, eindejaarsuitkering | D14: + | E14: =Basisgegevens!D34 -> 0 | G14: =Basisgegevens!F34 -> 0 | I14: Andere bruto arbeidsinkomsten, dit is niet van toepassing voor incidentele of al in het bruto inkomen opgenomen posten!
A15: 15 | B15: 49 | C15: Belaste onkostenvergoeding | D15: + | E15: =Basisgegevens!D71 -> 0 | G15: =Basisgegevens!F71 -> 0 | I15: Zie salarisspecificatie, het belast zijn betekend nog niet dat het dus gaat om verkapt inkomen !!
A16: 16 | B16: 50 | C16: Bruto pensioen (vakantietoeslag niet altijd inbegrepen) | D16: + | E16: =Basisgegevens!D67 -> 0 | G16: =Basisgegevens!F67 -> 0 | I16: Bruto pensioen uitkering (inclusief eventueel vakantiegeld)
A17: 17 | C17: Bruto jaar inkomen: | E17: =SUM(E7:E16) -> 0 | F17: =E17 -> 0 | G17: =SUM(G7:G16) -> 0 | H17: =G17 -> 0 | I17: (nr. 41 t/m 50)
A18: 18
A19: 19 | C19: Bijtelling auto (t.b.v. verzamelinkomen)
A20: 20 | C20: =Basisgegevens!B88 -> Bijtelling volgens salarisstrook | D20: + | E20: =Basisgegevens!D88 -> 0 | F20: n.v.t | G20: =Basisgegevens!F88 -> 0 | H20: n.v.t
A21: 21 | C21: =Basisgegevens!B89 -> Eigen bijdrage | D21: - | E21: =Basisgegevens!D89 -> 0 | G21: =Basisgegevens!F89 -> 0
A22: 22 | C22: =Basisgegevens!B90 -> Bijtelling auto van de zaak | E22: =Basisgegevens!D90 -> 0 | G22: =Basisgegevens!F90 -> 0
A23: 23 | E23: =E22+E17 -> 0 | G23: =G22+G17 -> 0
A24: 24
A25: 25 | C25: Premies
A26: 26 | B26: 51 | C26: Ingehouden pensioenpremie | D26: - | E26: =SUM(Basisgegevens!D72+Basisgegevens!D51+Basisgegevens!D60) -> 0 | F26: n.v.t | G26: =SUM(Basisgegevens!F72+Basisgegevens!F51+Basisgegevens!F60) -> 0 | H26: n.v.t | I26: Ingehouden pensioenpremie op jaarbasis, zie de loonstroken
A27: 27 | B27: 52 | C27: VUT / FPU-premie e.d. | D27: - | E27: =Basisgegevens!D73 -> 0 | G27: =Basisgegevens!F73 -> 0
A28: 28 | B28: 53 | C28: Aanvullende pensioenpremie / premie reparatie WAO/WIA gat (ingehouden door werkgever) | D28: - | E28: =Basisgegevens!D74 -> 0 | G28: =Basisgegevens!F74 -> 0 | I28: Betreft hier aanvullende, collectief door de werkgever ingehouden WAO/WIA-gat premie (zoals premie AP/AOP)
A29: 29 | B29: 54 | C29: Loon voor de premies werknemersverzekeringen: | D29: A | E29: =E17-SUM(E26:E28) -> 0 | F29: =E29 -> 0 | G29: =G17-SUM(G26:G28) -> 0 | H29: =G29 -> 0 | I29: (nr. 41 t/m 50) - (nr. 51 t/m 53)
A30: 30
A31: 31 | C31: Premies werknemersverzekeringen (NB Premie-inkomensgrens)
A32: 32 | B32: 55 | C32: Premie WW | D32: - | E32: =Basisgegevens!D75 -> 0 | F32: n.v.t | G32: =Basisgegevens!F75 -> 0 | H32: n.v.t | I32: Wordt berekend over het loon per werkdag, maar dan over niet meer dan het maximum dagloon na aftrek van een franchise.
A33: 33 | B33: 56 | C33: Premie arbeidsongeschiktheidsverzekering i.v.m. reparatie WAO/WIA-gat (collectieve regeling, premie ingehouden door werkgever) | D33: - | E33: =Basisgegevens!D76 -> 0 | G33: =Basisgegevens!F76 -> 0 | I33: Premie collectieve aanvullende verzekering arbeidsongeschiktheid t.b.v. reparatie van het WAO/WIA gat. Premie staat op de loonstrook
A34: 34
A35: 35 | C35: Premie Zorgverzekeringswet
A36: 36 | B36: 57 | C36: (Op aanslag betaalde) inkomensafhankelijke bijdrage ZVW | D36: - | E36: =Basisgegevens!D52+Basisgegevens!D77 -> 0 | F36: n.v.t | G36: =Basisgegevens!F52+Basisgegevens!F77 -> 0 | H36: n.v.t | I36: Alleen invullen als de bijdrage ZVW op het loon van de onderhoudsplichtige wordt ingehouden. Als de werkgever/instantie deze bijdrage betaald (wordt dus niet ingehouden) 0 invullen.
A37: 37 | B37: 58 | C37: Belaste bijdrage in ziektekosten | D37: + | E37: =Basisgegevens!D78 -> 0 | G37: =Basisgegevens!F78 -> 0 | I37: Een werkgeversbijdrage in de ziektekosten (anders dan bij 57) wordt normaal gezien als belast loon. De bijdrage dan hier invullen.
A38: 38 | B38: 59 | C38: Inkomsten uit arbeid: | E38: =IF(E41>0,"Zie Post 60",E29-SUM(E32:E35)+E37) -> 0 | F38: =E38 -> 0 | G38: =IF(G41>0,"Zie Post 60",G29-SUM(G32:G35)+G37) -> 0 | H38: =G38 -> 0 | I38: (nr. 54) - (nr. 55 t/m 57) + nr.58
A39: 39
A40: 40 | C40: Alternatief
...

Sheet Jusvergelijking
A1: Jusvergelijking
A3: Algemeen | J3: In de JUS-vergelijking moet de "Vrije ruimte" voor beide partners gelijk zijn. Vul bij een verschil in vrije ruimte in cel H12 het correctie bedrag in. Zodanig dat de vrije ruimte bij beiden gelijk wordt. In Cel J14 de schatting van het startbedrag.
B4: De berekeningsdatum is vastgezet op: | D4: =Basisgegevens!C15 -> 43466 | F4: Tijdvak: | G4: =Basisgegevens!C21 -> 2019 - 2e halfjaar
A6: Samenvatting berekening
D8: Inkomsten | F8: ='Alimentatie 2019-2 (Juli)'!$E$3 -> AP | H8: ='Alimentatie 2019-2 (Juli)'!$G$3 -> AG
D9: Inkomsten BOX I (excl. Alimentatie) | F9: =IF(Basisgegevens!C81>0,'Alimentatie 2019-2 (Juli)'!E41+'Alimentatie 2019-2 (Juli)'!E50+'Alimentatie 2019-2 (Juli)'!E51+'Alimentatie 2019-2 (Juli)'!E68+'Alimentatie 2019-2 (Juli)'!E72-'Alimentatie 2019-2 (Juli)'!E73,'Alimentatie 2019-2 (Juli)'!E38+'Alimentatie 2019-2 (Juli)'!E50+'Alimentatie 2019-2 (Juli)'!E51+'Alimentatie 2019-2 (Juli)'!E68+'Alimentatie 2019-2 (Juli)'!E72-'Alimentatie 2019-2 (Juli)'!E73) -> 0 | H9: =IF(Basisgegevens!E81>0,'Alimentatie 2019-2 (Juli)'!G41+'Alimentatie 2019-2 (Juli)'!G50+'Alimentatie 2019-2 (Juli)'!G51+'Alimentatie 2019-2 (Juli)'!G68+'Alimentatie 2019-2 (Juli)'!G72-'Alimentatie 2019-2 (Juli)'!G73,'Alimentatie 2019-2 (Juli)'!G38+'Alimentatie 2019-2 (Juli)'!G50+'Alimentatie 2019-2 (Juli)'!G51+'Alimentatie 2019-2 (Juli)'!G68+'Alimentatie 2019-2 (Juli)'!G72-'Alimentatie 2019-2 (Juli)'!G73) -> 0
D10: Feitenlijke inkomsten BOX II en BOX III | F10: ='Alimentatie 2019-2 (Juli)'!F114+'Alimentatie 2019-2 (Juli)'!F125 -> 0 | H10: ='Alimentatie 2019-2 (Juli)'!H114+'Alimentatie 2019-2 (Juli)'!H125 -> 0
D11: Onbelast inkomen | F11: ='Alimentatie 2019-2 (Juli)'!E158+'Alimentatie 2019-2 (Juli)'!E159+'Alimentatie 2019-2 (Juli)'!E162-'Alimentatie 2019-2 (Juli)'!E164 -> 0 | H11: ='Alimentatie 2019-2 (Juli)'!G158+'Alimentatie 2019-2 (Juli)'!G159+'Alimentatie 2019-2 (Juli)'!G162-'Alimentatie 2019-2 (Juli)'!G164 -> 0
D12: Te ontvangen alimentatie | F12: 0 | H12: 0
D13: Totaal aan inkomsten: | F13: =SUM(F9:F12) -> 0 | H13: =SUM(H9:H12) -> 0 | I13: Verschil in Jus | J13: Corrigeer met:
D14: Vrije ruimte: | F14: =F65 -> -10716.36 | H14: =H65 -> -10716.36 | I14: =F14-H14 -> 0 | J14: =Basisgegevens!F362 -> 0
A16: Nr. | B16: Onderdeel | E16: ='Alimentatie 2019-2 (Juli)'!$E$3 -> AP | G16: ='Alimentatie 2019-2 (Juli)'!$G$3 -> AG
A17: 64 | B17: ='Alimentatie 2019-2 (Juli)'!C47 -> Belastbaar loon: | E17: ='Alimentatie 2019-2 (Juli)'!E47 -> 0 | F17: + | G17: ='Alimentatie 2019-2 (Juli)'!G47 -> 0 | H17: +
A18: 75 | B18: ='Alimentatie 2019-2 (Juli)'!C66 -> Belastbare winst uit onderneming: | E18: ='Alimentatie 2019-2 (Juli)'!E66 -> 0 | F18: + | G18: ='Alimentatie 2019-2 (Juli)'!G66 -> 0 | H18: +
A19: 78 | B19: ='Alimentatie 2019-2 (Juli)'!C70 -> Belastbaar resultaat uit overige werkzaamheden: | E19: ='Alimentatie 2019-2 (Juli)'!E70 -> 0 | F19: + | G19: ='Alimentatie 2019-2 (Juli)'!G70 -> 0 | H19: +
A20: 81 | B20: ='Alimentatie 2019-2 (Juli)'!C74 -> Belastbare periodieke uitkeringen en verstrekkingen: | E20: ='Alimentatie 2019-2 (Juli)'!E74 -> 0 | F20: + | G20: ='Alimentatie 2019-2 (Juli)'!G74 -> 0 | H20: +
A21: 85 | B21: ='Alimentatie 2019-2 (Juli)'!C80 -> Belastbaar inkomen uit eigen woning: | E21: ='Alimentatie 2019-2 (Juli)'!E80 -> 0 | F21: + | G21: ='Alimentatie 2019-2 (Juli)'!G80 -> 0 | H21: +
A22: 89 | B22: ='Alimentatie 2019-2 (Juli)'!C86 -> Uitgaven voor inkomensvoorziening: | E22: ='Alimentatie 2019-2 (Juli)'!E86 -> 0 | F22: + | G22: ='Alimentatie 2019-2 (Juli)'!G86 -> 0 | H22: +
A23: 90 | B23: ='Alimentatie 2019-2 (Juli)'!C88 -> Uitgaven voor kinderopvang: | E23: ='Alimentatie 2019-2 (Juli)'!E88 -> 0 | F23: + | G23: ='Alimentatie 2019-2 (Juli)'!G88 -> 0 | H23: +
A24: 93 | B24: ='Alimentatie 2019-2 (Juli)'!C92 -> Persoonsgebonden aftrek: | E24: ='Alimentatie 2019-2 (Juli)'!E92 -> 0 | F24: + | G24: ='Alimentatie 2019-2 (Juli)'!G92 -> 0 | H24: +
A25: 138 | B25: ='Alimentatie 2019-2 (Juli)'!C234 -> Alimentatieverplichting (eerdere) ex-partner | E25: ='Alimentatie 2019-2 (Juli)'!E234*12 -> 0 | F25: - | G25: ='Alimentatie 2019-2 (Juli)'!G234 -> 0 | H25: -
B26: Te betalen / ontvagen alimentatie (komt uit cel E11) | E26: =H12 -> 0 | F26: - | G26: =H12 -> 0 | H26: +
A27: 94 | B27: Belastbaar inkomen: | E27: =SUM(E17:E24)-SUM(E25:E26) -> 0 | G27: =SUM(G17:G26) -> 0
B28: Belasting schijf 1 | E28: =Basisgegevens!V7 -> 0 | F28: + | G28: =Basisgegevens!W7 -> 0 | H28: +
B29: Belasting schijf 2 | E29: =Basisgegevens!V8 -> 0 | F29: + | G29: =Basisgegevens!W8 -> 0 | H29: +
B30: Belasting schijf 3 | E30: =Basisgegevens!V9 -> 0 | F30: + | G30: =Basisgegevens!W9 -> 0 | H30: +
B31: Belasting schijf 4 | E31: =Basisgegevens!V10 -> 0 | F31: + | G31: =Basisgegevens!W10 -> 0 | H31: +
A32: 95 | B32: Inkomensheffing Box I: | E32: =SUM(E28:E31) -> 0 | F32: + | G32: =SUM(G28:G31) -> 0 | H32: +
A33: ='Alimentatie 2019-2 (Juli)'!B117 -> 101 | B33: ='Alimentatie 2019-2 (Juli)'!C117 -> Inkomstebelasting (vast tarief 25%) box II: | E33: ='Alimentatie 2019-2 (Juli)'!E117 -> 0 | F33: + | G33: ='Alimentatie 2019-2 (Juli)'!G117 -> 0 | H33: +
A34: ='Alimentatie 2019-2 (Juli)'!B142 -> 112 | B34: ='Alimentatie 2019-2 (Juli)'!C142 -> Inkomstebelasting (vast tarief 30%) box III: | E34: ='Alimentatie 2019-2 (Juli)'!E142 -> 0 | F34: + | G34: ='Alimentatie 2019-2 (Juli)'!G142 -> 0 | H34: +
B35: Totaal inkomstenbelastingen (Box I, II en II) | E35: =SUM(E32:E34) -> 0 | G35: =SUM(G32:G34) -> 0
B37: Heffingskortingen: | E37: ='Alimentatie 2019-2 (Juli)'!$E$3 -> AP | G37: ='Alimentatie 2019-2 (Juli)'!$G$3 -> AG
B38: - algemene heffingskorting | E38: =IF(Basisgegevens!C$10="Nee",Basisgegevens!T121,Basisgegevens!T130) -> 0 | F38: + | G38: =IF(Basisgegevens!D$10="Nee",Basisgegevens!U121,Basisgegevens!U130) -> 0 | H38: +
B39: - arbeidskorting | E39: =IF(Basisgegevens!C$10="Nee",Basisgegevens!T142,Basisgegevens!T151) -> 0 | F39: + | G39: =IF(Basisgegevens!D$10="Nee",Basisgegevens!U142,Basisgegevens!U151) -> 0 | H39: +
B40: - inkomensonafhankelijke combinatiekorting | E40: =IF(OR(Basisgegevens!T105="n.v.t",Basisgegevens!T105="zie AOW-tabel"),Basisgegevens!T113,Basisgegevens!T105) -> n.v.t | F40: + | G40: =IF(OR(Basisgegevens!U105="n.v.t",Basisgegevens!U105="zie AOW-tabel"),Basisgegevens!U113,Basisgegevens!U105) -> n.v.t | H40: +
B41: - ouderenkorting | E41: =Basisgegevens!T159 -> 0 | F41: + | G41: =Basisgegevens!U159 -> 0 | H41: +
B42: - alleenstaande ouderenkorting (AOW-ers) | E42: =Basisgegevens!Q77 -> n.v.t | F42: + | G42: =Basisgegevens!R77 -> n.v.t | H42: +
B43: - andere kortingen (Jonggehandicapten, Levensloop, Groene beleggingen) | E43: ='Alimentatie 2019-2 (Juli)'!E154 -> 0 | F43: + | G43: ='Alimentatie 2019-2 (Juli)'!G154 -> 0 | H43: +
A44: ='Alimentatie 2019-2 (Juli)'!B155 -> 116 | B44: Totaal Heffingskortingen: | E44: =SUM(E38:E43) -> 0 | G44: =SUM(G38:G43) -> 0
A45: ='Alimentatie 2019-2 (Juli)'!B156 -> 117 | B45: ='Alimentatie 2019-2 (Juli)'!C156 -> Verschuldigde inkomensheffing: | F45: =E35-E44 -> 0 | H45: =G35-G44 -> 0
...

Sheet Behoefteberekening
A1: Behoeftebepaling volgens de Hofnorm
A3: Algemeen
B4: De berekeningsdatum is vastgezet op: | D4: =Basisgegevens!C15 -> 43466 | F4: Tijdvak: | G4: =Basisgegevens!C21 -> 2019 - 2e halfjaar
E7: Per maand | F7: Per jaar
A8: ='Alimentatie 2019-2 (Juli)'!B173 -> 121 | B8: Alimentatieplichtige: | C8: =Basisgegevens!C4 -> AP | D8: =Basisgegevens!C5 -> 0 | E8: ='Alimentatie 2019-2 (Juli)'!F173 -> 0 | F8: =E8*12 -> 0 | G8: +
A9: ='Alimentatie 2019-2 (Juli)'!B173 -> 121 | B9: Alimentatiegerechtigde: | C9: =Basisgegevens!D4 -> AG | D9: =Basisgegevens!D5 -> 0 | E9: ='Alimentatie 2019-2 (Juli)'!G173 -> 0 | F9: =E9*12 -> 0 | G9: +
B10: Netto Besteedbaar Gezinsinkomen ten tijde van de relatie: | E10: =SUM(E8:E9) -> 0 | F10: =E10*12 -> 0
B12: =Kinderalimentatie!B21 -> Eigen aandeel ouders conform NIBUD tabel: | E12: =Kinderalimentatie!F21 -> 0.01 | F12: =E12*12 -> 0.12 | G12: -
B13: Beschikbaar voor AP/AG: | E13: =E10-E12 -> -0.01 | F13: =E13*12 -> -0.12
B14: =CONCATENATE("Behoefte AP/AG a ",Basisgegevens!C155*100,"%:") -> Behoefte AP/AG a 60%: | E14: =Basisgegevens!C155*Behoefteberekening!E13 -> -0.006 | F14: =E14*12 -> -0.072
G16: Belastbaar per jaar
A17: Nr. | B17: BOX I inkomen | E17: Per maand | F17: Per jaar
A18: =IF(Basisgegevens!E81>0,'Alimentatie 2019-2 (Juli)'!B41,'Alimentatie 2019-2 (Juli)'!B38) -> 59 | B18: =IF(Basisgegevens!E81>0,'Alimentatie 2019-2 (Juli)'!C41,'Alimentatie 2019-2 (Juli)'!C38) -> Inkomsten uit arbeid: | E18: =F18/12 -> 0 | F18: =IF(Basisgegevens!E81>0,'Alimentatie 2019-2 (Juli)'!G41-'Alimentatie 2019-2 (Juli)'!G9,'Alimentatie 2019-2 (Juli)'!G38-'Alimentatie 2019-2 (Juli)'!G9) -> 0 | G18: =F18 -> 0 | H18: +
A19: ='Alimentatie 2019-2 (Juli)'!B9 -> 43 | B19: ='Alimentatie 2019-2 (Juli)'!C9 -> Bruto uitkering andere sociale verzekeringswetten | E19: =F19/12 -> 0 | F19: ='Alimentatie 2019-2 (Juli)'!G9 -> 0 | G19: =F19 -> 0 | H19: +
A20: ='Alimentatie 2019-2 (Juli)'!B57 -> 70 | B20: ='Alimentatie 2019-2 (Juli)'!C57 -> Winst uit onderneming: | E20: =F20/12 -> 0 | F20: ='Alimentatie 2019-2 (Juli)'!G57 -> 0 | G20: =F20-'Alimentatie 2019-2 (Juli)'!G65 -> 0 | H20: +
A21: ='Alimentatie 2019-2 (Juli)'!B70 -> 78 | B21: ='Alimentatie 2019-2 (Juli)'!C70 -> Belastbaar resultaat uit overige werkzaamheden: | E21: =F21/12 -> 0 | F21: ='Alimentatie 2019-2 (Juli)'!G70 -> 0 | G21: =F21 -> 0 | H21: +
A22: ='Alimentatie 2019-2 (Juli)'!B74 -> 81 | B22: ='Alimentatie 2019-2 (Juli)'!C74 -> Belastbare periodieke uitkeringen en verstrekkingen: | E22: =F22/12 -> 0 | F22: ='Alimentatie 2019-2 (Juli)'!G74 -> 0 | G22: =F22 -> 0 | H22: +
A23: 94 | B23: Totaal Belastbaar inkomen uit woning & werk (BOX I): | E23: =SUM(E18:E22) -> 0 | F23: =SUM(F18:F22) -> 0 | G23: =SUM(G18:G22) -> 0
